BEGIN:VCALENDAR
VERSION:2.0
PRODID:-//Ecole St Vincent Ustaritz - ECPv5.3.2.1//NONSGML v1.0//EN
CALSCALE:GREGORIAN
METHOD:PUBLISH
X-WR-CALNAME:Ecole St Vincent Ustaritz
X-ORIGINAL-URL:http://ecolestvincent-ustaritz.fr
X-WR-CALDESC:évènements pour Ecole St Vincent Ustaritz
BEGIN:VTIMEZONE
TZID:Europe/Paris
BEGIN:DAYLIGHT
TZOFFSETFROM:+0100
TZOFFSETTO:+0200
TZNAME:CEST
DTSTART:20190331T010000
END:DAYLIGHT
BEGIN:STANDARD
TZOFFSETFROM:+0200
TZOFFSETTO:+0100
TZNAME:CET
DTSTART:20191027T010000
END:STANDARD
END:VTIMEZONE
BEGIN:VEVENT
DTSTART;TZID=Europe/Paris:20191218T100000
DTEND;TZID=Europe/Paris:20191218T110000
DTSTAMP:20260424T235501
CREATED:20191209T104323Z
LAST-MODIFIED:20191209T104323Z
UID:2705-1576663200-1576666800@ecolestvincent-ustaritz.fr
SUMMARY:Spectacle pour les maternelles bilingues
DESCRIPTION:Euskal haziak offre à tous les élèves de maternelle bascophone le spectacle JO kako Jo de Josiane Valencia Aguerre et Philippe Albor \n\n\n	Articles similaires
URL:http://ecolestvincent-ustaritz.fr/event/spectacle-pour-les-maternelles-bilingues/
ATTACH;FMTTYPE=image/jpeg:http://ecolestvincent-ustaritz.fr/wp-content/uploads/2019/12/jo-kako-jo.jpg
END:VEVENT
END:VCALENDAR